BEGIN:VCALENDAR
VERSION:2.0
PRODID:-//Contratero//ES
CALSCALE:GREGORIAN
METHOD:PUBLISH
BEGIN:VEVENT
UID:IPA 6/20@contratero.es
DTSTAMP:20260425T011101Z
DTSTART:20200306T235959
DTEND:20200307T005959
SUMMARY:Cierre: Servicios de mantenimiento de paquetes de software
DESCRIPTION:Servicios de mantenimiento de paquetes de software para el Servicio Público de Empleo Estatal\\n\\nOrganismo: Dirección General del Servicio Público de Empleo Estatal\\n\\nVer en Contratero: https://contratero.es/contracts/IPA 6/20
URL:https://contratero.es/contracts/IPA 6/20
STATUS:CONFIRMED
BEGIN:VALARM
TRIGGER:-P1D
ACTION:DISPLAY
DESCRIPTION:Recordatorio: Servicios de mantenimiento de 
END:VALARM
END:VEVENT
END:VCALENDAR